BEGIN:VCALENDAR
VERSION:2.0
PRODID:-//JusGov - ECPv5.1.0//NONSGML v1.0//EN
CALSCALE:GREGORIAN
METHOD:PUBLISH
X-WR-CALNAME:JusGov
X-ORIGINAL-URL:https://www.jusgov.uminho.pt
X-WR-CALDESC:Events for JusGov
BEGIN:VTIMEZONE
TZID:UTC
BEGIN:STANDARD
TZOFFSETFROM:+0000
TZOFFSETTO:+0000
TZNAME:UTC
DTSTART:20240101T000000
END:STANDARD
END:VTIMEZONE
BEGIN:VEVENT
DTSTART;TZID=UTC:20240704T080000
DTEND;TZID=UTC:20240706T170000
DTSTAMP:20260426T015619
CREATED:20240701T112133Z
LAST-MODIFIED:20240701T112133Z
UID:57493-1720080000-1720285200@www.jusgov.uminho.pt
SUMMARY:Summer School on Law and Innovation
DESCRIPTION:From July 4 to 6\, 2024\, JusGov\, the University of Minho Law School\, Mackenzie University in São Paulo and the International Institute for Legal Research will hold a Summer School on Law and Innovation\, which aims to discuss some of the new legal challenges in areas of rapid transformation\, bringing Portuguese and Brazilian jurists into dialogue. \nPROGRAMME\nhttps://lnkd.in/dB2wX5H2 \nREGISTRATION\nhttps://lnkd.in/dpDw-eek \nORGANIZATION\nEDUM – University of Minho School of Law\nJusGov – Justice and Governance Research Center\nMackenzie University of São Paulo\nInternational Institute for Legal Research \nSCIENTIFIC COORDINATION\nAna Flávia Messa\nAnabela Gonçalves\nAna Isa Meireles\nDiana Coutinho\nSara Peixoto \n
URL:https://www.jusgov.uminho.pt/event/summer-school-on-law-and-innovation/
LOCATION:Escola de Direito da Universidade do Minho\, Campus de Gualtar\, Braga\, Gualtar\, 4710-057\, Portugal
CATEGORIES:Coming
ATTACH;FMTTYPE=image/jpeg:https://www.jusgov.uminho.pt/wp-content/uploads/2024/07/5.jpg
END:VEVENT
END:VCALENDAR